BEGIN:VCALENDAR
VERSION:2.0
PRODID:SchoolNow
CALSCALE:GREGORIAN
BEGIN:VEVENT
UID:2cd87a20-92f0-11ef-ad33-0a58a9feac02
DTSTAMP:20241025T164251Z
SUMMARY:Board Government Relations Committee meeting (10/30)
LOCATION:1 Academy Park\, Albany
URL;VALUE=URI:https://www.albanyschools.org/boe/calendar/6896644/board-gove
 rnment-relations-committee-meeting-10-30
DTSTART:20241030T123000Z
DTEND:20241030T133000Z
END:VEVENT
END:VCALENDAR
