BEGIN:VCALENDAR
VERSION:2.0
PRODID:SchoolNow
CALSCALE:GREGORIAN
BEGIN:VEVENT
UID:821053f4-9bb6-11ef-86cd-0a58a9feac02
DTSTAMP:20241106T205445Z
SUMMARY:Board Government Relations Committee meeting (11/13)
LOCATION:Harriet Gibbons Student Services Center\, 75 Watervliet Ave.
URL;VALUE=URI:https://www.albanyschools.org/boe/calendar/6965652/board-gove
 rnment-relations-committee-meeting-11-13
DTSTART:20241113T133000Z
DTEND:20241113T143000Z
END:VEVENT
END:VCALENDAR
