BEGIN:VCALENDAR
VERSION:2.0
PRODID:SchoolNow
CALSCALE:GREGORIAN
BEGIN:VEVENT
UID:37af10ee-b8d4-11ef-9481-0e659274a845
DTSTAMP:20241212T215827Z
SUMMARY:Ad Hoc Committee on Designation of Student Representative as Ex-Off
 icio Board Member meeting (12/16)
LOCATION:Albany High School\, 700 Washington Ave.\, Albany\, NY 12203
URL;VALUE=URI:https://www.albanyschools.org/boe/calendar/7161729/ad-hoc-com
 mittee-meeting
DTSTART:20241216T143000Z
DTEND:20241216T153000Z
END:VEVENT
END:VCALENDAR
