BEGIN:VCALENDAR
VERSION:2.0
PRODID:SchoolNow
CALSCALE:GREGORIAN
BEGIN:VEVENT
UID:5dc266d8-ca12-11ef-ada1-0a58a9feac02
DTSTAMP:20250103T212650Z
SUMMARY:Board and Cabinet retreat
LOCATION:Capital Region BOCES\, 900 Watervliet-Shaker Road\, Latham\, NY
URL;VALUE=URI:https://www.albanyschools.org/boe/calendar/7263902/board-and-
 cabinet-retreat
DTSTART:20250104T133000Z
DTEND:20250104T170000Z
END:VEVENT
END:VCALENDAR
