BEGIN:VCALENDAR
VERSION:2.0
PRODID:SchoolNow
CALSCALE:GREGORIAN
BEGIN:VEVENT
UID:d4f4686a-d34e-11ef-bec0-0a58a9feac02
DTSTAMP:20250115T185714Z
SUMMARY:Board of Education special meeting (1/16)
LOCATION:Harriet Gibbons Student Services Center\, 75 Watervliet Ave.
URL;VALUE=URI:https://www.albanyschools.org/boe/calendar/7319634/board-of-e
 ducation-special-meeting-1-16
DTSTART:20250116T224500Z
DTEND:20250117T000000Z
END:VEVENT
END:VCALENDAR
