BEGIN:VCALENDAR
VERSION:2.0
PRODID:SchoolNow
CALSCALE:GREGORIAN
BEGIN:VEVENT
UID:74634110-e4ce-11ef-aa93-0a58a9feac02
DTSTAMP:20250210T163656Z
SUMMARY:Public Board of Education meeting (2/10)
DESCRIPTION:Anticipated executive session at 5:30 p.m. Board-Cabinet retrea
 t to follow the public session at 7 p.m.
LOCATION:Harriet Gibbons Student Services Center\, 75 Watervliet Ave.
URL;VALUE=URI:https://www.albanyschools.org/boe/calendar/7432696/public-boa
 rd-of-education-meeting-2-10
DTSTART:20250210T233000Z
DTEND:20250211T000000Z
END:VEVENT
END:VCALENDAR
