BEGIN:VCALENDAR
VERSION:2.0
PRODID:SchoolNow
CALSCALE:GREGORIAN
BEGIN:VEVENT
UID:a81b7af0-e7a7-11ef-bd2c-0a58a9feac02
DTSTAMP:20250210T120753Z
SUMMARY:Board and Cabinet retreat (2/10)
LOCATION:Harriet Gibbons Student Services Center\, 75 Watervliet Ave.\, Alb
 any
URL;VALUE=URI:https://www.albanyschools.org/boe/calendar/7447341/board-and-
 cabinet-retreat-2-10
DTSTART:20250211T000000Z
DTEND:20250211T020000Z
END:VEVENT
END:VCALENDAR
