BEGIN:VCALENDAR
VERSION:2.0
PRODID:SchoolNow
CALSCALE:GREGORIAN
BEGIN:VEVENT
UID:6210a5e2-193b-11f0-a4f8-02dcfb49811d
DTSTAMP:20250417T175047Z
SUMMARY:Board of Education special budget meeting (4/22)
LOCATION:Harriet Gibbons Student Services Center\, 75 Watervliet Ave.
URL;VALUE=URI:https://www.albanyschools.org/boe/calendar/7922497/board-of-e
 ducation-special-meeting-4-22
DTSTART:20250422T223000Z
DTEND:20250423T000000Z
END:VEVENT
END:VCALENDAR
