BEGIN:VCALENDAR
VERSION:2.0
PRODID:SchoolNow
CALSCALE:GREGORIAN
BEGIN:VEVENT
UID:494a1316-34c2-11f0-82a3-02ea3126bc8d
DTSTAMP:20250528T234057Z
SUMMARY:Board of Education special meeting (5/29)
LOCATION:Harriet Gibbons Student Services Center\, 75 Watervliet Ave.
URL;VALUE=URI:https://www.albanyschools.org/boe/calendar/8162640/board-of-e
 ducation-special-meeting-5-29
DTSTART:20250529T213000Z
DTEND:20250530T000000Z
END:VEVENT
END:VCALENDAR
