BEGIN:VCALENDAR
VERSION:2.0
PRODID:SchoolNow
CALSCALE:GREGORIAN
BEGIN:VEVENT
UID:de38a284-4e2c-11f0-addf-0a58a9feac02
DTSTAMP:20250620T231826Z
SUMMARY:Board Policy Committee meeting (6/23)
LOCATION:Academy Park conference room
URL;VALUE=URI:https://www.albanyschools.org/boe/calendar/8334261/board-poli
 cy-committee-meeting-6-23
DTSTART:20250623T213000Z
DTEND:20250623T233000Z
END:VEVENT
END:VCALENDAR
