BEGIN:VCALENDAR
VERSION:2.0
PRODID:SchoolNow
CALSCALE:GREGORIAN
BEGIN:VEVENT
UID:f01d5cda-55d2-11f0-a14c-0e8e356708a9
DTSTAMP:20250709T145215Z
SUMMARY:Public Board of Education meeting (7/10)
DESCRIPTION:Anticipated executive session at 5:30 p.m.
LOCATION:Harriet Gibbons Student Services Center\, 75 Watervliet Ave.
URL;VALUE=URI:https://www.albanyschools.org/boe/calendar/8370086/public-boa
 rd-of-education-meeting-7-10
DTSTART:20250710T223000Z
DTEND:20250711T013000Z
END:VEVENT
END:VCALENDAR
