BEGIN:VCALENDAR
VERSION:2.0
PRODID:SchoolNow
CALSCALE:GREGORIAN
BEGIN:VEVENT
UID:1ca3f64c-55d3-11f0-9eb6-0a58a9feac02
DTSTAMP:20250806T221245Z
SUMMARY:Public Board of Education meeting (8/7)
DESCRIPTION:Anticipated executive session at 5:30 p.m.
LOCATION:Harriet Gibbons Student Services Center\, 75 Watervliet Ave.
URL;VALUE=URI:https://www.albanyschools.org/boe/calendar/8370089/public-boa
 rd-of-education-meeting-8-7
DTSTART:20250807T223000Z
DTEND:20250808T013000Z
END:VEVENT
END:VCALENDAR
