BEGIN:VCALENDAR
VERSION:2.0
PRODID:SchoolNow
CALSCALE:GREGORIAN
BEGIN:VEVENT
UID:5279f668-55d3-11f0-ac48-0efa27d97e01
DTSTAMP:20250820T145730Z
SUMMARY:Public Board of Education meeting (8/21)
DESCRIPTION:Anticipated executive session at 5:30 p.m.
LOCATION:Harriet Gibbons Student Services Center\, 75 Watervliet Ave.
URL;VALUE=URI:https://www.albanyschools.org/boe/calendar/8370092/public-boa
 rd-of-education-meeting-8-21
DTSTART:20250821T223000Z
DTEND:20250822T013000Z
END:VEVENT
END:VCALENDAR
