BEGIN:VCALENDAR
VERSION:2.0
PRODID:SchoolNow
CALSCALE:GREGORIAN
BEGIN:VEVENT
UID:9a3f2e16-5810-11f0-9ba3-0a58a9feac02
DTSTAMP:20250709T151127Z
SUMMARY:Code of Conduct Public Hearing (7/10)
URL;VALUE=URI:https://www.albanyschools.org/boe/calendar/8381001/code-of-co
 nduct-public-hearing
DTSTART:20250710T220000Z
DTEND:20250710T223000Z
END:VEVENT
END:VCALENDAR
