BEGIN:VCALENDAR
VERSION:2.0
PRODID:SchoolNow
CALSCALE:GREGORIAN
BEGIN:VEVENT
UID:5ef07a9c-5f2f-11f0-8193-0afffe51417b
DTSTAMP:20250712T144911Z
SUMMARY:Board Facilities Committee meeting (7/14)
LOCATION:Harriet Gibbons Student Services Center\, 75 Watervliet Ave.
URL;VALUE=URI:https://www.albanyschools.org/boe/calendar/8408201/board-faci
 lities-committee-meeting-7-14
DTSTART:20250714T214500Z
DTEND:20250714T234500Z
END:VEVENT
END:VCALENDAR
