BEGIN:VCALENDAR
VERSION:2.0
PRODID:SchoolNow
CALSCALE:GREGORIAN
BEGIN:VEVENT
UID:7aa1237c-624a-11f0-8785-0afffe51417b
DTSTAMP:20250716T134047Z
SUMMARY:Board Policy Committee meeting (7/16)
LOCATION:Albany High School library\, 700 Washington Ave.
URL;VALUE=URI:https://www.albanyschools.org/boe/calendar/8419810/board-poli
 cy-committee-meeting-7-16
DTSTART:20250716T213000Z
DTEND:20250716T233000Z
END:VEVENT
END:VCALENDAR
