BEGIN:VCALENDAR
VERSION:2.0
PRODID:SchoolNow
CALSCALE:GREGORIAN
BEGIN:VEVENT
UID:9ec66816-624a-11f0-99da-02b0890989d9
DTSTAMP:20250716T134148Z
SUMMARY:Board Policy Committee meeting (8/13)
LOCATION:Albany High School library\, 700 Washington Ave.
URL;VALUE=URI:https://www.albanyschools.org/boe/calendar/8419811/board-poli
 cy-committee-meeting-8-13
DTSTART:20250813T213000Z
DTEND:20250813T233000Z
END:VEVENT
END:VCALENDAR
