BEGIN:VCALENDAR
VERSION:2.0
PRODID:SchoolNow
CALSCALE:GREGORIAN
BEGIN:VEVENT
UID:bd265b22-624a-11f0-b8e1-0a58a9feac02
DTSTAMP:20250716T134239Z
SUMMARY:Board Facilities Committee meeting (8/5)
LOCATION:Harriet Gibbons Student Services Center\, 75 Watervliet Ave.
URL;VALUE=URI:https://www.albanyschools.org/boe/calendar/8419812/board-faci
 lities-committee-meeting-8-5
DTSTART:20250805T214500Z
DTEND:20250805T234500Z
END:VEVENT
END:VCALENDAR
