BEGIN:VCALENDAR
VERSION:2.0
PRODID:SchoolNow
CALSCALE:GREGORIAN
BEGIN:VEVENT
UID:96e8fc56-624c-11f0-bc13-0affed69585f
DTSTAMP:20250716T135553Z
SUMMARY:Board Facilities Committee meeting (9/9)
LOCATION:Harriet Gibbons Student Services Center\, 75 Watervliet Ave.
URL;VALUE=URI:https://www.albanyschools.org/boe/calendar/8419814/board-faci
 lities-committee-meeting-9-9
DTSTART:20250909T214500Z
DTEND:20250909T234500Z
END:VEVENT
END:VCALENDAR
