BEGIN:VCALENDAR
VERSION:2.0
PRODID:SchoolNow
CALSCALE:GREGORIAN
BEGIN:VEVENT
UID:b99c130a-624c-11f0-b3a4-0a58a9feac02
DTSTAMP:20250716T135652Z
SUMMARY:Board Ad Hoc Routine Consent Committee meeting (7/28)
LOCATION:Harriet Gibbons Student Services Center\, 75 Watervliet Ave.
URL;VALUE=URI:https://www.albanyschools.org/boe/calendar/8419816/board-ad-h
 oc-routine-consent-committee-meeting-7-28
DTSTART:20250728T213000Z
DTEND:20250728T223000Z
END:VEVENT
END:VCALENDAR
