BEGIN:VCALENDAR
VERSION:2.0
PRODID:SchoolNow
CALSCALE:GREGORIAN
BEGIN:VEVENT
UID:ee439c2c-624c-11f0-83a4-0210512b0f9d
DTSTAMP:20250919T192835Z
SUMMARY:Board Policy Committee meeting (9/29)
LOCATION:Albany High School library\, 700 Washington Ave.
URL;VALUE=URI:https://www.albanyschools.org/boe/calendar/8419818/board-poli
 cy-committee-meeting-9-29
DTSTART:20250929T213000Z
DTEND:20250929T233000Z
END:VEVENT
END:VCALENDAR
