BEGIN:VCALENDAR
VERSION:2.0
PRODID:SchoolNow
CALSCALE:GREGORIAN
BEGIN:VEVENT
UID:03c8e94e-624d-11f0-ba13-0a58a9feac02
DTSTAMP:20250716T135856Z
SUMMARY:Board Ad Hoc Routine Consent Committee meeting (8/25)
LOCATION:Harriet Gibbons Student Services Center\, 75 Watervliet Ave.
URL;VALUE=URI:https://www.albanyschools.org/boe/calendar/8419819/board-ad-h
 oc-routine-consent-committee-meeting-8-25
DTSTART:20250825T213000Z
DTEND:20250825T223000Z
END:VEVENT
END:VCALENDAR
