BEGIN:VCALENDAR
VERSION:2.0
PRODID:SchoolNow
CALSCALE:GREGORIAN
BEGIN:VEVENT
UID:1d7e043c-624d-11f0-ba9b-0a58a9feac02
DTSTAMP:20250909T205254Z
SUMMARY:Board Government Relations Committee meeting (9/17)
LOCATION:Harriet Gibbons Student Services Center\, 75 Watervliet Ave.
URL;VALUE=URI:https://www.albanyschools.org/boe/calendar/8419820/board-gove
 rnment-relations-committee-meeting-9-17
DTSTART:20250917T120000Z
DTEND:20250917T130000Z
END:VEVENT
END:VCALENDAR
