BEGIN:VCALENDAR
VERSION:2.0
PRODID:SchoolNow
CALSCALE:GREGORIAN
BEGIN:VEVENT
UID:b2980770-6310-11f0-8002-0afff30e2995
DTSTAMP:20250717T131941Z
SUMMARY:Board Government Relations Committee meeting (7/30)
LOCATION:Harriet Gibbons Student Services Center\, 75 Watervliet Ave.
URL;VALUE=URI:https://www.albanyschools.org/boe/calendar/8423327/board-gove
 rnment-relations-committee-meeting-7-30
DTSTART:20250730T123000Z
DTEND:20250730T133000Z
END:VEVENT
END:VCALENDAR
