BEGIN:VCALENDAR
VERSION:2.0
PRODID:SchoolNow
CALSCALE:GREGORIAN
BEGIN:VEVENT
UID:e0bec1da-6ee0-11f0-8ef4-0a58a9feac02
DTSTAMP:20250924T130018Z
SUMMARY:Public Board of Education meeting (9/25)
DESCRIPTION:Anticipated executive session at 5:30 p.m.
LOCATION:Harriet Gibbons Student Services Center\, 75 Watervliet Ave.
URL;VALUE=URI:https://www.albanyschools.org/boe/calendar/8463057/public-boa
 rd-of-education-meeting-9-25
DTSTART:20250925T223000Z
DTEND:20250926T013000Z
END:VEVENT
END:VCALENDAR
