BEGIN:VCALENDAR
VERSION:2.0
PRODID:SchoolNow
CALSCALE:GREGORIAN
BEGIN:VEVENT
UID:04e85d32-6ee1-11f0-9078-0affee0271f9
DTSTAMP:20251008T134316Z
SUMMARY:Public Board of Education meeting (10/9)
DESCRIPTION:Anticipated executive session at 5:30 p.m.
LOCATION:Harriet Gibbons Student Services Center\, 75 Watervliet Ave.
URL;VALUE=URI:https://www.albanyschools.org/boe/calendar/8463059/public-boa
 rd-of-education-meeting-10-9
DTSTART:20251009T223000Z
DTEND:20251010T013000Z
END:VEVENT
END:VCALENDAR
