BEGIN:VCALENDAR
VERSION:2.0
PRODID:SchoolNow
CALSCALE:GREGORIAN
BEGIN:VEVENT
UID:1cc7b10a-6ee1-11f0-8b6d-0a58a9feac02
DTSTAMP:20251022T135951Z
SUMMARY:Public Board of Education meeting (10/23)
DESCRIPTION:Anticipated executive session at 5:30 p.m.
LOCATION:Harriet Gibbons Student Services Center\, 75 Watervliet Ave.
URL;VALUE=URI:https://www.albanyschools.org/boe/calendar/8463061/public-boa
 rd-of-education-meeting-10-23
DTSTART:20251023T223000Z
DTEND:20251024T013000Z
END:VEVENT
END:VCALENDAR
