BEGIN:VCALENDAR
VERSION:2.0
PRODID:SchoolNow
CALSCALE:GREGORIAN
BEGIN:VEVENT
UID:4fbd106e-6ee1-11f0-a9e8-0a58a9feac02
DTSTAMP:20251119T144139Z
SUMMARY:Public Board of Education meeting (11/20)
DESCRIPTION:Anticipated executive session at 5:30 p.m.
LOCATION:Harriet Gibbons Student Services Center\, 75 Watervliet Ave.
URL;VALUE=URI:https://www.albanyschools.org/boe/calendar/8463065/public-boa
 rd-of-education-meeting-11-20
DTSTART:20251120T233000Z
DTEND:20251121T023000Z
END:VEVENT
END:VCALENDAR
