BEGIN:VCALENDAR
VERSION:2.0
PRODID:SchoolNow
CALSCALE:GREGORIAN
BEGIN:VEVENT
UID:7a28eaee-6ee1-11f0-b109-0a58a9feac02
DTSTAMP:20251216T164650Z
SUMMARY:Public Board of Education meeting (12/17)
DESCRIPTION:Anticipated executive session at 5:30 p.m.
LOCATION:Harriet Gibbons Student Services Center\, 75 Watervliet Ave.
URL;VALUE=URI:https://www.albanyschools.org/boe/calendar/8463069/public-boa
 rd-of-education-meeting-12-17
DTSTART:20251217T233000Z
DTEND:20251218T023000Z
END:VEVENT
END:VCALENDAR
