BEGIN:VCALENDAR
VERSION:2.0
PRODID:SchoolNow
CALSCALE:GREGORIAN
BEGIN:VEVENT
UID:c0f5516a-6ee1-11f0-8048-0affe48c7e35
DTSTAMP:20260203T225305Z
SUMMARY:Public Board of Education meeting (2/5)
DESCRIPTION:Anticipated executive session at 5:30 p.m.
LOCATION:Harriet Gibbons Student Services Center\, 75 Watervliet Ave.
URL;VALUE=URI:https://www.albanyschools.org/boe/calendar/8463109/public-boa
 rd-of-education-meeting-2-5
DTSTART:20260205T233000Z
DTEND:20260206T023000Z
END:VEVENT
END:VCALENDAR
