BEGIN:VCALENDAR
VERSION:2.0
PRODID:SchoolNow
CALSCALE:GREGORIAN
BEGIN:VEVENT
UID:7531e42c-6ee2-11f0-91fb-029cfcd0439f
DTSTAMP:20260211T213909Z
SUMMARY:Public Board of Education meeting (5/21)
DESCRIPTION:Anticipated executive session at 5:30 p.m.
LOCATION:Harriet Gibbons Student Services Center\, 75 Watervliet Ave.
URL;VALUE=URI:https://www.albanyschools.org/boe/calendar/8463257/public-boa
 rd-of-education-meeting-5-21
DTSTART:20260521T223000Z
DTEND:20260522T013000Z
END:VEVENT
END:VCALENDAR
