BEGIN:VCALENDAR
VERSION:2.0
PRODID:SchoolNow
CALSCALE:GREGORIAN
BEGIN:VEVENT
UID:900bd578-6ee2-11f0-89f7-0affea04400d
DTSTAMP:20260211T213919Z
SUMMARY:Public Board of Education meeting (6/4)
DESCRIPTION:Anticipated executive session at 5:30 p.m.
LOCATION:Harriet Gibbons Student Services Center\, 75 Watervliet Ave.
URL;VALUE=URI:https://www.albanyschools.org/boe/calendar/8463293/public-boa
 rd-of-education-meeting-6-4
DTSTART:20260604T223000Z
DTEND:20260605T013000Z
END:VEVENT
END:VCALENDAR
