BEGIN:VCALENDAR
VERSION:2.0
PRODID:SchoolNow
CALSCALE:GREGORIAN
BEGIN:VEVENT
UID:a8d3efbe-6ee2-11f0-a7f8-0a58a9feac02
DTSTAMP:20260211T213931Z
SUMMARY:Public Board of Education meeting (6/25)
DESCRIPTION:Anticipated executive session at 5:30 p.m.
LOCATION:Harriet Gibbons Student Services Center\, 75 Watervliet Ave.
URL;VALUE=URI:https://www.albanyschools.org/boe/calendar/8463295/public-boa
 rd-of-education-meeting-6-25
DTSTART:20260625T223000Z
DTEND:20260626T013000Z
END:VEVENT
END:VCALENDAR
