BEGIN:VCALENDAR
VERSION:2.0
PRODID:SchoolNow
CALSCALE:GREGORIAN
BEGIN:VEVENT
UID:58c572f2-6eee-11f0-83a8-0a58a9feac02
DTSTAMP:20250820T154228Z
SUMMARY:SCHOOL BUDGET VOTE & BOARD ELECTION
URL;VALUE=URI:https://www.albanyschools.org/boe/calendar/8463454/school-bud
 get-vote-board-election
DTSTART:20260519T040000Z
DTEND:20260520T035900Z
END:VEVENT
END:VCALENDAR
