BEGIN:VCALENDAR
VERSION:2.0
PRODID:SchoolNow
CALSCALE:GREGORIAN
BEGIN:VEVENT
UID:33a16d6a-7dd9-11f0-b0f8-0affee066179
DTSTAMP:20250820T152027Z
SUMMARY:Board Audit/Finance Committee meeting (1/12)
LOCATION:Harriet Gibbons Student Services Center\, 75 Watervliet Ave.
URL;VALUE=URI:https://www.albanyschools.org/boe/calendar/8524816/board-audi
 t-finance-committee-meeting-1-12
DTSTART:20260112T223000Z
DTEND:20260113T003000Z
END:VEVENT
END:VCALENDAR
