BEGIN:VCALENDAR
VERSION:2.0
PRODID:SchoolNow
CALSCALE:GREGORIAN
BEGIN:VEVENT
UID:71577780-7dd9-11f0-ade0-0a58a9feac02
DTSTAMP:20250820T152211Z
SUMMARY:Board Facilities Committee meeting (10/7)
LOCATION:Harriet Gibbons Student Services Center\, 75 Watervliet Ave.
URL;VALUE=URI:https://www.albanyschools.org/boe/calendar/8524818/board-faci
 lities-committee-meeting-10-7
DTSTART:20251007T214500Z
DTEND:20251007T234500Z
END:VEVENT
END:VCALENDAR
