BEGIN:VCALENDAR
VERSION:2.0
PRODID:SchoolNow
CALSCALE:GREGORIAN
BEGIN:VEVENT
UID:7c801914-7dd9-11f0-8ed7-02eb822844bf
DTSTAMP:20251112T141930Z
SUMMARY:Board Policy Committee meeting (11/19) (rescheduled from 11/12)
LOCATION:Harriet Gibbons Student Services Center\, 75 Watervliet Ave.
URL;VALUE=URI:https://www.albanyschools.org/boe/calendar/8524819/board-faci
 lities-committee-meeting-11-18
DTSTART:20251119T223000Z
DTEND:20251120T003000Z
END:VEVENT
END:VCALENDAR
