BEGIN:VCALENDAR
VERSION:2.0
PRODID:SchoolNow
CALSCALE:GREGORIAN
BEGIN:VEVENT
UID:8bb4bdc2-7dd9-11f0-8d13-0a58a9feac02
DTSTAMP:20250820T152255Z
SUMMARY:Board Facilities Committee meeting (12/9)
LOCATION:Harriet Gibbons Student Services Center\, 75 Watervliet Ave.
URL;VALUE=URI:https://www.albanyschools.org/boe/calendar/8524820/board-faci
 lities-committee-meeting-12-9
DTSTART:20251209T224500Z
DTEND:20251210T004500Z
END:VEVENT
END:VCALENDAR
