BEGIN:VCALENDAR
VERSION:2.0
PRODID:SchoolNow
CALSCALE:GREGORIAN
BEGIN:VEVENT
UID:950d8f0c-7dd9-11f0-afc3-0e5d3462789d
DTSTAMP:20260106T214138Z
SUMMARY:Board Facilities Committee meeting (1/13)
LOCATION:Harriet Gibbons Student Services Center\, 75 Watervliet Ave.
URL;VALUE=URI:https://www.albanyschools.org/boe/calendar/8524821/board-faci
 lities-committee-meeting-1-13
DTSTART:20260113T224500Z
DTEND:20260114T004500Z
END:VEVENT
END:VCALENDAR
