BEGIN:VCALENDAR
VERSION:2.0
PRODID:SchoolNow
CALSCALE:GREGORIAN
BEGIN:VEVENT
UID:a5067e0a-7dd9-11f0-944b-0a58a9feac02
DTSTAMP:20250820T152337Z
SUMMARY:Board Facilities Committee meeting (2/10)
LOCATION:Harriet Gibbons Student Services Center\, 75 Watervliet Ave.
URL;VALUE=URI:https://www.albanyschools.org/boe/calendar/8524822/board-faci
 lities-committee-meeting-2-10
DTSTART:20260210T224500Z
DTEND:20260211T004500Z
END:VEVENT
END:VCALENDAR
