BEGIN:VCALENDAR
VERSION:2.0
PRODID:SchoolNow
CALSCALE:GREGORIAN
BEGIN:VEVENT
UID:b01795f4-7dd9-11f0-8db5-02eb822844bf
DTSTAMP:20250820T152356Z
SUMMARY:Board Facilities Committee meeting (3/10)
LOCATION:Harriet Gibbons Student Services Center\, 75 Watervliet Ave.
URL;VALUE=URI:https://www.albanyschools.org/boe/calendar/8524823/board-faci
 lities-committee-meeting-3-10
DTSTART:20260310T214500Z
DTEND:20260310T234500Z
END:VEVENT
END:VCALENDAR
