BEGIN:VCALENDAR
VERSION:2.0
PRODID:SchoolNow
CALSCALE:GREGORIAN
BEGIN:VEVENT
UID:5c6c5178-7dda-11f0-81a8-0affc1bf85c7
DTSTAMP:20250820T152845Z
SUMMARY:Board Policy Committee meeting (10/15)
LOCATION:Albany High School library\, 700 Washington Ave.
URL;VALUE=URI:https://www.albanyschools.org/boe/calendar/8524828/board-poli
 cy-committee-meeting-10-15
DTSTART:20251015T213000Z
DTEND:20251015T233000Z
END:VEVENT
END:VCALENDAR
