BEGIN:VCALENDAR
VERSION:2.0
PRODID:SchoolNow
CALSCALE:GREGORIAN
BEGIN:VEVENT
UID:732ff694-7dda-11f0-be1c-0affee066179
DTSTAMP:20250820T152923Z
SUMMARY:Board Policy Committee meeting (12/10)
LOCATION:Albany High School library\, 700 Washington Ave.
URL;VALUE=URI:https://www.albanyschools.org/boe/calendar/8524830/board-poli
 cy-committee-meeting-12-10
DTSTART:20251210T223000Z
DTEND:20251211T003000Z
END:VEVENT
END:VCALENDAR
