BEGIN:VCALENDAR
VERSION:2.0
PRODID:SchoolNow
CALSCALE:GREGORIAN
BEGIN:VEVENT
UID:7c75b658-7dda-11f0-b24d-02eb822844bf
DTSTAMP:20250820T152939Z
SUMMARY:Board Policy Committee meeting (1/14)
LOCATION:Albany High School library\, 700 Washington Ave.
URL;VALUE=URI:https://www.albanyschools.org/boe/calendar/8524831/board-poli
 cy-committee-meeting-1-14
DTSTART:20260114T223000Z
DTEND:20260115T003000Z
END:VEVENT
END:VCALENDAR
