BEGIN:VCALENDAR
VERSION:2.0
PRODID:SchoolNow
CALSCALE:GREGORIAN
BEGIN:VEVENT
UID:8ab849b0-7dda-11f0-aa90-0affe844e53d
DTSTAMP:20250820T153003Z
SUMMARY:Board Policy Committee meeting (2/11)
LOCATION:Albany High School library\, 700 Washington Ave.
URL;VALUE=URI:https://www.albanyschools.org/boe/calendar/8524832/board-poli
 cy-committee-meeting-2-11
DTSTART:20260211T223000Z
DTEND:20260212T003000Z
END:VEVENT
END:VCALENDAR
