BEGIN:VCALENDAR
VERSION:2.0
PRODID:SchoolNow
CALSCALE:GREGORIAN
BEGIN:VEVENT
UID:fdf9dbdc-7dda-11f0-8c1e-0a58a9feac02
DTSTAMP:20250820T153316Z
SUMMARY:Board Ad Hoc Routine Consent Committee meeting (9/15)
LOCATION:Harriet Gibbons Student Services Center\, 75 Watervliet Ave.
URL;VALUE=URI:https://www.albanyschools.org/boe/calendar/8524837/board-ad-h
 oc-routine-consent-committee-meeting-9-15
DTSTART:20250915T213000Z
DTEND:20250915T223000Z
END:VEVENT
END:VCALENDAR
