BEGIN:VCALENDAR
VERSION:2.0
PRODID:SchoolNow
CALSCALE:GREGORIAN
BEGIN:VEVENT
UID:0fbd5b28-7ddb-11f0-a0bb-0affee066179
DTSTAMP:20250820T153346Z
SUMMARY:Board Ad Hoc Routine Consent Committee meeting (10/6)
LOCATION:Harriet Gibbons Student Services Center\, 75 Watervliet Ave.
URL;VALUE=URI:https://www.albanyschools.org/boe/calendar/8524839/board-ad-h
 oc-routine-consent-committee-meeting-10-6
DTSTART:20251006T213000Z
DTEND:20251006T223000Z
END:VEVENT
END:VCALENDAR
