BEGIN:VCALENDAR
VERSION:2.0
PRODID:SchoolNow
CALSCALE:GREGORIAN
BEGIN:VEVENT
UID:16b1c0c2-7ddb-11f0-b3d4-0a58a9feac02
DTSTAMP:20250820T153358Z
SUMMARY:Board Ad Hoc Routine Consent Committee meeting (10/27)
LOCATION:Harriet Gibbons Student Services Center\, 75 Watervliet Ave.
URL;VALUE=URI:https://www.albanyschools.org/boe/calendar/8524840/board-ad-h
 oc-routine-consent-committee-meeting-10-27
DTSTART:20251027T213000Z
DTEND:20251027T223000Z
END:VEVENT
END:VCALENDAR
