BEGIN:VCALENDAR
VERSION:2.0
PRODID:SchoolNow
CALSCALE:GREGORIAN
BEGIN:VEVENT
UID:3227970a-7ddb-11f0-a755-0a58a9feac02
DTSTAMP:20250820T153444Z
SUMMARY:Board Ad Hoc Routine Consent Committee meeting (12/8)
LOCATION:Harriet Gibbons Student Services Center\, 75 Watervliet Ave.
URL;VALUE=URI:https://www.albanyschools.org/boe/calendar/8524843/board-ad-h
 oc-routine-consent-committee-meeting-12-8
DTSTART:20251208T223000Z
DTEND:20251208T233000Z
END:VEVENT
END:VCALENDAR
