BEGIN:VCALENDAR
VERSION:2.0
PRODID:SchoolNow
CALSCALE:GREGORIAN
BEGIN:VEVENT
UID:49f4e8e2-7ddb-11f0-a54e-022e31aca1f7
DTSTAMP:20250820T153524Z
SUMMARY:Board Ad Hoc Routine Consent Committee meeting (1/12)
LOCATION:Harriet Gibbons Student Services Center\, 75 Watervliet Ave.
URL;VALUE=URI:https://www.albanyschools.org/boe/calendar/8524845/board-ad-h
 oc-routine-consent-committee-meeting-1-12
DTSTART:20260112T223000Z
DTEND:20260112T233000Z
END:VEVENT
END:VCALENDAR
